BEGIN:VCALENDAR
VERSION:2.0
PRODID:icalendar-ruby
CALSCALE:GREGORIAN
METHOD:PUBLISH
BEGIN:VEVENT
DTSTAMP:20260421T225701Z
UID:11-1761143@portlandcenter.tithelysetup2.com
DTSTART;VALUE=DATE:20260428
DTEND;VALUE=DATE:20260428
CLASS:PUBLIC
CREATED:20260421T100308
DESCRIPTION:9 Weeks\; Tuesdays\, March 24\, 2026 to May 26\, 2026\, Zoom Cl
 assroom. NOTE: No class on Tuesday\, April 7\, 2026 due to CSL Convention
  in Reno\, NV\nFacilitated by Kate Barrett\, RScP Emerita\, with Teaching
  Assistants Nancy Ashley\, RScP and Nadine Moller\, RScP\nFor more info
 rmation and to register go to www.cslportland.org and click on "Education"
 .
LAST-MODIFIED:20260421T100308
LOCATION:
SUMMARY:Advanced Consciousness Studies
URL;VALUE=URI:https://portlandcenter.tithelysetup2.com/events/advanced-cons
 ciousness-studies/2026-04-28
END:VEVENT
END:VCALENDAR
