BEGIN:VCALENDAR
VERSION:2.0
PRODID:icalendar-ruby
CALSCALE:GREGORIAN
METHOD:PUBLISH
BEGIN:VEVENT
DTSTAMP:20260421T183457Z
UID:7-1761033@portlandcenter.tithelysetup2.com
DTSTART:20260705T180000Z
DTEND:20260705T190000Z
CLASS:PUBLIC
CREATED:20260417T132913
DESCRIPTION:Celebration Service
LAST-MODIFIED:20260417T132913
LOCATION:
SUMMARY:Celebration Service
URL;VALUE=URI:https://portlandcenter.tithelysetup2.com/events/celebration-s
 ervice/2026-07-05
END:VEVENT
END:VCALENDAR
