BEGIN:VCALENDAR
VERSION:2.0
PRODID:icalendar-ruby
CALSCALE:GREGORIAN
METHOD:PUBLISH
BEGIN:VEVENT
DTSTAMP:20260422T153427Z
UID:7-1761046@portlandcenter.tithelysetup2.com
DTSTART:20261004T180000Z
DTEND:20261004T190000Z
CLASS:PUBLIC
CREATED:20260417T132913
DESCRIPTION:Celebration Service
LAST-MODIFIED:20260417T132913
LOCATION:
SUMMARY:Celebration Service
URL;VALUE=URI:https://portlandcenter.tithelysetup2.com/events/celebration-s
 ervice/2026-10-04
END:VEVENT
END:VCALENDAR
