BEGIN:VCALENDAR
VERSION:2.0
PRODID:icalendar-ruby
CALSCALE:GREGORIAN
METHOD:PUBLISH
BEGIN:VEVENT
DTSTAMP:20260421T134341Z
UID:10-1761117@portlandcenter.tithelysetup2.com
DTSTART:20260628T180000Z
DTEND:20260628T190000Z
CLASS:PUBLIC
CREATED:20260417T142607
DESCRIPTION:
LAST-MODIFIED:20260417T142607
LOCATION:Upstairs
SUMMARY:Teens Meeting
URL;VALUE=URI:https://portlandcenter.tithelysetup2.com/events/teens-meeting
 /2026-06-28
END:VEVENT
END:VCALENDAR
